BEGIN:VCALENDAR
VERSION:2.0
PRODID:-//Kantonaler Leichtathletikverband Graubünden - ECPv4.6.8//NONSGML v1.0//EN
CALSCALE:GREGORIAN
METHOD:PUBLISH
X-WR-CALNAME:Kantonaler Leichtathletikverband Graubünden
X-ORIGINAL-URL:http://www.leichtathletik-gr.ch
X-WR-CALDESC:Events for Kantonaler Leichtathletikverband Graubünden
BEGIN:VEVENT
DTSTART;VALUE=DATE:20180630
DTEND;VALUE=DATE:20180701
DTSTAMP:20180627T225720
CREATED:20171220T122456Z
LAST-MODIFIED:20180613T065922Z
UID:3961-1530316800-1530403199@www.leichtathletik-gr.ch
SUMMARY:Kantonalfinal UBS Kids Cup
DESCRIPTION:Weisungen als PDF \nZeitplan als PDF \n
URL:http://www.leichtathletik-gr.ch/?tribe_events=kantonalfinal-ubs-kids-cup-3
LOCATION:Landquart
END:VEVENT
BEGIN:VEVENT
DTSTART;VALUE=DATE:20180825
DTEND;VALUE=DATE:20180826
DTSTAMP:20180627T225720
CREATED:20180212T163100Z
LAST-MODIFIED:20180212T163100Z
UID:3985-1535155200-1535241599@www.leichtathletik-gr.ch
SUMMARY:OZB Championships (Interkantonalen Meisterschaften U18/U20/Aktive Kantone SG\, AR\, AI\, ZH\, GR und Liechtenstein)
DESCRIPTION:
URL:http://www.leichtathletik-gr.ch/?tribe_events=ozb-championships-interkantonalen-meisterschaften-u18-u20-aktive-kantone-sg-ar-ai-zh-gr-und-liechtenstein
END:VEVENT
BEGIN:VEVENT
DTSTART;VALUE=DATE:20180929
DTEND;VALUE=DATE:20180930
DTSTAMP:20180627T225720
CREATED:20171220T122537Z
LAST-MODIFIED:20171220T122537Z
UID:3963-1538179200-1538265599@www.leichtathletik-gr.ch
SUMMARY:Bündner Einkampf Meisterschaften
DESCRIPTION:
URL:http://www.leichtathletik-gr.ch/?tribe_events=buendner-einkampf-meisterschaften-3
LOCATION:Sandstrasse 35\, Chur\, Schweiz
END:VEVENT
BEGIN:VEVENT
DTSTART;VALUE=DATE:20181117
DTEND;VALUE=DATE:20181118
DTSTAMP:20180627T225720
CREATED:20171220T122606Z
LAST-MODIFIED:20171220T122606Z
UID:3965-1542412800-1542499199@www.leichtathletik-gr.ch
SUMMARY:Delegiertenversammlung KLV GR
DESCRIPTION:
URL:http://www.leichtathletik-gr.ch/?tribe_events=delegiertenversammlung-klv-gr-3
END:VEVENT
BEGIN:VEVENT
DTSTART;VALUE=DATE:20181124
DTEND;VALUE=DATE:20181125
DTSTAMP:20180627T225720
CREATED:20171220T122645Z
LAST-MODIFIED:20171220T122645Z
UID:3967-1543017600-1543103999@www.leichtathletik-gr.ch
SUMMARY:Delegiertenversammlung GRTV
DESCRIPTION:
URL:http://www.leichtathletik-gr.ch/?tribe_events=delegiertenversammlung-grtv-3
END:VEVENT
END:VCALENDAR